BEGIN:VCALENDAR
VERSION:2.0
PRODID:-//Club Nautique de Founex - ECPv6.15.20//NONSGML v1.0//EN
CALSCALE:GREGORIAN
METHOD:PUBLISH
X-WR-CALNAME:Club Nautique de Founex
X-ORIGINAL-URL:https://cnfounex.ch
X-WR-CALDESC:Évènements pour Club Nautique de Founex
REFRESH-INTERVAL;VALUE=DURATION:PT1H
X-Robots-Tag:noindex
X-PUBLISHED-TTL:PT1H
BEGIN:VTIMEZONE
TZID:Europe/Zurich
BEGIN:DAYLIGHT
TZOFFSETFROM:+0100
TZOFFSETTO:+0200
TZNAME:CEST
DTSTART:20230326T010000
END:DAYLIGHT
BEGIN:STANDARD
TZOFFSETFROM:+0200
TZOFFSETTO:+0100
TZNAME:CET
DTSTART:20231029T010000
END:STANDARD
BEGIN:DAYLIGHT
TZOFFSETFROM:+0100
TZOFFSETTO:+0200
TZNAME:CEST
DTSTART:20240331T010000
END:DAYLIGHT
BEGIN:STANDARD
TZOFFSETFROM:+0200
TZOFFSETTO:+0100
TZNAME:CET
DTSTART:20241027T010000
END:STANDARD
BEGIN:DAYLIGHT
TZOFFSETFROM:+0100
TZOFFSETTO:+0200
TZNAME:CEST
DTSTART:20250330T010000
END:DAYLIGHT
BEGIN:STANDARD
TZOFFSETFROM:+0200
TZOFFSETTO:+0100
TZNAME:CET
DTSTART:20251026T010000
END:STANDARD
END:VTIMEZONE
BEGIN:VEVENT
DTSTART;TZID=Europe/Zurich:20240810T080000
DTEND;TZID=Europe/Zurich:20240810T170000
DTSTAMP:20260421T051023
CREATED:20240406T080948Z
LAST-MODIFIED:20250212T100729Z
UID:10000006-1723276800-1723309200@cnfounex.ch
SUMMARY:Régate des Châteaux
DESCRIPTION:Régate toute série TCF\, 7ème manche du Championnat du Petit Lac.\nTableau officiel et inscription : manage2sail.com/fr-CH/event/CNFCHATEAUX2024 \nRevivre en photo l’édition 2023 : 2023 / Régate des Chateaux et 40e (cnfounex.ch)
URL:https://cnfounex.ch/event/regate-des-chateaux-2024/
LOCATION:Club Nautique de Founex\, Port de Founex - CP 29\, Founex\, Vaud\, 1297\, Switzerland
CATEGORIES:Régates
ATTACH;FMTTYPE=image/jpeg:https://cnfounex.ch/wp-content/uploads/2024/04/IMG_1063-scaled.jpg
GEO:46.333878;6.202922
X-APPLE-STRUCTURED-LOCATION;VALUE=URI;X-ADDRESS=Club Nautique de Founex Port de Founex - CP 29 Founex Vaud 1297 Switzerland;X-APPLE-RADIUS=500;X-TITLE=Port de Founex - CP 29:geo:6.202922,46.333878
END:VEVENT
BEGIN:VEVENT
DTSTART;VALUE=DATE:20240812
DTEND;VALUE=DATE:20240817
DTSTAMP:20260421T051023
CREATED:20240406T075840Z
LAST-MODIFIED:20240718T131836Z
UID:10000005-1723420800-1723852799@cnfounex.ch
SUMMARY:Semaine du soir de Founex
DESCRIPTION:Les inscriptions et le tableau officiel : https://www.manage2sail.com/fr-CH/event/SSF24 \nLe site de la semaine du soir pour revivre les éditions précédentes en photos et voir le programme à terre : Semaine du Soir de Founex – Du 12 au 16 août 2024
URL:https://cnfounex.ch/event/semaine-du-soir-de-founex-2024/
LOCATION:Club Nautique de Founex\, Port de Founex - CP 29\, Founex\, Vaud\, 1297\, Switzerland
CATEGORIES:Régates
ATTACH;FMTTYPE=image/jpeg:https://cnfounex.ch/wp-content/uploads/2024/04/IMG-20230814-WA0009.jpg
GEO:46.333878;6.202922
X-APPLE-STRUCTURED-LOCATION;VALUE=URI;X-ADDRESS=Club Nautique de Founex Port de Founex - CP 29 Founex Vaud 1297 Switzerland;X-APPLE-RADIUS=500;X-TITLE=Port de Founex - CP 29:geo:6.202922,46.333878
END:VEVENT
END:VCALENDAR