BEGIN:VCALENDAR
VERSION:2.0
PRODID:-//Club Nautique de Founex - ECPv6.15.20//NONSGML v1.0//EN
CALSCALE:GREGORIAN
METHOD:PUBLISH
X-ORIGINAL-URL:https://cnfounex.ch
X-WR-CALDESC:Évènements pour Club Nautique de Founex
REFRESH-INTERVAL;VALUE=DURATION:PT1H
X-Robots-Tag:noindex
X-PUBLISHED-TTL:PT1H
BEGIN:VTIMEZONE
TZID:Europe/Zurich
BEGIN:DAYLIGHT
TZOFFSETFROM:+0100
TZOFFSETTO:+0200
TZNAME:CEST
DTSTART:20250330T010000
END:DAYLIGHT
BEGIN:STANDARD
TZOFFSETFROM:+0200
TZOFFSETTO:+0100
TZNAME:CET
DTSTART:20251026T010000
END:STANDARD
BEGIN:DAYLIGHT
TZOFFSETFROM:+0100
TZOFFSETTO:+0200
TZNAME:CEST
DTSTART:20260329T010000
END:DAYLIGHT
BEGIN:STANDARD
TZOFFSETFROM:+0200
TZOFFSETTO:+0100
TZNAME:CET
DTSTART:20261025T010000
END:STANDARD
BEGIN:DAYLIGHT
TZOFFSETFROM:+0100
TZOFFSETTO:+0200
TZNAME:CEST
DTSTART:20270328T010000
END:DAYLIGHT
BEGIN:STANDARD
TZOFFSETFROM:+0200
TZOFFSETTO:+0100
TZNAME:CET
DTSTART:20271031T010000
END:STANDARD
END:VTIMEZONE
BEGIN:VEVENT
DTSTART;VALUE=DATE:20260629
DTEND;VALUE=DATE:20260815
DTSTAMP:20260421T193311
CREATED:20260324T165358Z
LAST-MODIFIED:20260324T165507Z
UID:10000032-1782691200-1786751999@cnfounex.ch
SUMMARY:Camps d'été
DESCRIPTION:Camps de voile pour enfants de 6 à 18 ans\n  \nLe Club nautique de Founex organise sur son site au coeur de terre sainte dans le port de Founex\, des camps de voile durant les vacances scolaires d’été pour les enfants de 6 à 18 ans\, en 3 groupes : \nMOUSSAILLONS – ENFANTS – ADOLESCENTS \n			\n			\n				\n				\n				\n				\n			\n				\n				\n				\n				\n				\n				\n				\n				\n				\n				\n				Dériveurs Optimists\, RS Feva & Laser\nTout d’abord\, nous avons augmenté le nombre de bateaux à disposition pour les enfants et aujourd’hui c’est une flotte de 24 dériveurs\, Optimist\, RS Feva et Laser\, qui sont à disposition pour donner des cours de voile aux enfants de la région de Nyon et Terre Sainte. Le renouvellement des bateaux école du Club nautique permet également de proposer des cours pour les enfants à partir de 6 ans. \n			\n			\n				\n				\n				\n				\n				\n				\n				\n				\n				\n				\nDates des camps d’été\nProgramme \nTarifs et conditions\nInscriptions
URL:https://cnfounex.ch/event/2026-camps-ete/
LOCATION:Club Nautique de Founex\, Port de Founex - CP 29\, Founex\, Vaud\, 1297\, Switzerland
CATEGORIES:Ecole de voile
GEO:46.333878;6.202922
X-APPLE-STRUCTURED-LOCATION;VALUE=URI;X-ADDRESS=Club Nautique de Founex Port de Founex - CP 29 Founex Vaud 1297 Switzerland;X-APPLE-RADIUS=500;X-TITLE=Port de Founex - CP 29:geo:6.202922,46.333878
END:VEVENT
BEGIN:VEVENT
DTSTART;VALUE=DATE:20260817
DTEND;VALUE=DATE:20261010
DTSTAMP:20260421T193311
CREATED:20260324T164523Z
LAST-MODIFIED:20260324T164727Z
UID:10000031-1786924800-1791590399@cnfounex.ch
SUMMARY:Cours de voile d’Automne
DESCRIPTION:8 cours\nDu 17 Aout au 9 Octobre 2026\n  \nJours à choix et horaires :\n\nLundi\, mardi\, mercredi\, jeudi ou vendredi\nDe 18h00 à 20h00\n\n			\n				inscriptions\n			\n				tarifs et conditions
URL:https://cnfounex.ch/event/2026-cours-de-voile-automne/
LOCATION:Club Nautique de Founex\, Port de Founex - CP 29\, Founex\, Vaud\, 1297\, Switzerland
CATEGORIES:Ecole de voile
GEO:46.333878;6.202922
X-APPLE-STRUCTURED-LOCATION;VALUE=URI;X-ADDRESS=Club Nautique de Founex Port de Founex - CP 29 Founex Vaud 1297 Switzerland;X-APPLE-RADIUS=500;X-TITLE=Port de Founex - CP 29:geo:6.202922,46.333878
END:VEVENT
END:VCALENDAR